Package: structToolbox Version: 1.18.2 Command: /Library/Frameworks/R.framework/Resources/bin/R CMD INSTALL structToolbox StartedAt: 2025-03-31 15:35:32 -0400 (Mon, 31 Mar 2025) EndedAt: 2025-03-31 15:36:14 -0400 (Mon, 31 Mar 2025) EllapsedTime: 42.3 seconds RetCode: 0 Status: OK