Package: structToolbox Version: 1.18.2 Command: /Library/Frameworks/R.framework/Resources/bin/R CMD check --install=check:structToolbox.install-out.txt --library=/Library/Frameworks/R.framework/Resources/library --no-vignettes --timings structToolbox_1.18.2.tar.gz StartedAt: 2025-04-02 10:35:49 -0400 (Wed, 02 Apr 2025) EndedAt: 2025-04-02 10:44:28 -0400 (Wed, 02 Apr 2025) EllapsedTime: 518.9 seconds RetCode: 0 Status: OK CheckDir: structToolbox.Rcheck Warnings: 0