Package: structToolbox Version: 1.18.2 Command: /Library/Frameworks/R.framework/Resources/bin/R CMD build --keep-empty-dirs --no-resave-data structToolbox StartedAt: 2025-04-01 08:49:22 -0400 (Tue, 01 Apr 2025) EndedAt: 2025-04-01 09:01:02 -0400 (Tue, 01 Apr 2025) EllapsedTime: 700.1 seconds RetCode: 0 Status: OK PackageFile: structToolbox_1.18.2.tar.gz PackageFileSize: 4.905 MiB