Package: omicplotR Version: 1.26.0 Command: /Library/Frameworks/R.framework/Resources/bin/R CMD INSTALL omicplotR StartedAt: 2025-03-31 17:31:27 -0400 (Mon, 31 Mar 2025) EndedAt: 2025-03-31 17:31:54 -0400 (Mon, 31 Mar 2025) EllapsedTime: 26.7 seconds RetCode: 0 Status: OK