Package: omicplotR Version: 1.26.0 Command: /Library/Frameworks/R.framework/Resources/bin/R CMD build --keep-empty-dirs --no-resave-data omicplotR StartedAt: 2025-04-01 04:32:05 -0400 (Tue, 01 Apr 2025) EndedAt: 2025-04-01 04:32:37 -0400 (Tue, 01 Apr 2025) EllapsedTime: 32.0 seconds RetCode: 0 Status: OK PackageFile: omicplotR_1.26.0.tar.gz PackageFileSize: 1.641 MiB