Package: omicplotR Version: 1.26.0 Command: rm -rf omicplotR.buildbin-libdir && mkdir omicplotR.buildbin-libdir && /Users/biocbuild/BBS/utils/build-universal.sh omicplotR_1.26.0.tar.gz /Library/Frameworks/R.framework/Resources/bin/R omicplotR.buildbin-libdir StartedAt: 2025-04-02 15:30:47 -0400 (Wed, 02 Apr 2025) EndedAt: 2025-04-02 15:31:18 -0400 (Wed, 02 Apr 2025) EllapsedTime: 30.6 seconds RetCode: 0 Status: OK PackageFile: omicplotR_1.26.0.tgz PackageFileSize: 1.183 MiB