Package: epidecodeR Version: 1.14.0 Command: /Library/Frameworks/R.framework/Resources/bin/R CMD INSTALL epidecodeR StartedAt: 2025-03-31 18:07:59 -0400 (Mon, 31 Mar 2025) EndedAt: 2025-03-31 18:08:35 -0400 (Mon, 31 Mar 2025) EllapsedTime: 35.7 seconds RetCode: 0 Status: OK