Package: epidecodeR Version: 1.14.0 Command: /Library/Frameworks/R.framework/Resources/bin/R CMD check --install=check:epidecodeR.install-out.txt --library=/Library/Frameworks/R.framework/Resources/library --no-vignettes --timings epidecodeR_1.14.0.tar.gz StartedAt: 2025-04-01 18:23:24 -0400 (Tue, 01 Apr 2025) EndedAt: 2025-04-01 18:28:02 -0400 (Tue, 01 Apr 2025) EllapsedTime: 277.8 seconds RetCode: 0 Status: OK CheckDir: epidecodeR.Rcheck Warnings: 0