Package: epidecodeR Version: 1.14.0 Command: /Library/Frameworks/R.framework/Resources/bin/R CMD build --keep-empty-dirs --no-resave-data epidecodeR StartedAt: 2025-03-31 23:07:20 -0400 (Mon, 31 Mar 2025) EndedAt: 2025-03-31 23:08:20 -0400 (Mon, 31 Mar 2025) EllapsedTime: 59.5 seconds RetCode: 0 Status: OK PackageFile: epidecodeR_1.14.0.tar.gz PackageFileSize: 2.067 MiB