Package: diffcyt Version: 1.26.1 Command: F:\biocbuild\bbs-3.20-bioc\R\bin\R.exe CMD INSTALL diffcyt StartedAt: 2025-03-31 17:02:11 -0400 (Mon, 31 Mar 2025) EndedAt: 2025-03-31 17:02:51 -0400 (Mon, 31 Mar 2025) EllapsedTime: 40.0 seconds RetCode: 0 Status: OK