Package: diffcyt Version: 1.26.1 Command: F:\biocbuild\bbs-3.20-bioc\R\bin\R.exe CMD check --no-multiarch --install=check:diffcyt.install-out.txt --library=F:\biocbuild\bbs-3.20-bioc\R\library --no-vignettes --timings diffcyt_1.26.1.tar.gz StartedAt: 2025-04-01 00:58:09 -0400 (Tue, 01 Apr 2025) EndedAt: 2025-04-01 01:03:08 -0400 (Tue, 01 Apr 2025) EllapsedTime: 298.5 seconds RetCode: 0 Status: OK CheckDir: diffcyt.Rcheck Warnings: 0