Package: diffcyt Version: 1.26.1 Command: chmod a+r diffcyt -R && F:\biocbuild\bbs-3.20-bioc\R\bin\R.exe CMD build --keep-empty-dirs --no-resave-data diffcyt StartedAt: 2025-03-31 18:29:44 -0400 (Mon, 31 Mar 2025) EndedAt: 2025-03-31 18:32:04 -0400 (Mon, 31 Mar 2025) EllapsedTime: 139.8 seconds RetCode: 0 Status: OK PackageFile: diffcyt_1.26.1.tar.gz PackageFileSize: 672.2 KiB