Package: diffUTR Version: 1.14.0 Command: chmod a+r diffUTR -R && F:\biocbuild\bbs-3.20-bioc\R\bin\R.exe CMD build --keep-empty-dirs --no-resave-data diffUTR StartedAt: 2025-03-31 18:30:39 -0400 (Mon, 31 Mar 2025) EndedAt: 2025-03-31 18:32:17 -0400 (Mon, 31 Mar 2025) EllapsedTime: 98.3 seconds RetCode: 0 Status: OK PackageFile: diffUTR_1.14.0.tar.gz PackageFileSize: 1.103 MiB