Package: arrayQualityMetrics Version: 3.62.0 Command: /home/biocbuild/bbs-3.20-bioc/R/bin/R CMD INSTALL arrayQualityMetrics StartedAt: 2025-03-31 15:44:08 -0400 (Mon, 31 Mar 2025) EndedAt: 2025-03-31 15:44:31 -0400 (Mon, 31 Mar 2025) EllapsedTime: 22.6 seconds RetCode: 0 Status: OK