Package: arrayQualityMetrics Version: 3.62.0 Command: /home/biocbuild/bbs-3.20-bioc/R/bin/R CMD check --install=check:arrayQualityMetrics.install-out.txt --library=/home/biocbuild/bbs-3.20-bioc/R/site-library --timings arrayQualityMetrics_3.62.0.tar.gz StartedAt: 2025-03-31 19:53:12 -0400 (Mon, 31 Mar 2025) EndedAt: 2025-03-31 20:01:59 -0400 (Mon, 31 Mar 2025) EllapsedTime: 527.1 seconds RetCode: 0 Status: OK CheckDir: arrayQualityMetrics.Rcheck Warnings: 0