Package: arrayQualityMetrics Version: 3.62.0 Command: /home/biocbuild/bbs-3.20-bioc/R/bin/R CMD build --keep-empty-dirs --no-resave-data --md5 arrayQualityMetrics StartedAt: 2025-03-31 16:11:24 -0400 (Mon, 31 Mar 2025) EndedAt: 2025-03-31 16:19:43 -0400 (Mon, 31 Mar 2025) EllapsedTime: 499.5 seconds RetCode: 0 Status: OK PackageFile: arrayQualityMetrics_3.62.0.tar.gz PackageFileSize: 596.7 KiB