Package: SubCellBarCode Version: 1.22.0 Command: /Library/Frameworks/R.framework/Resources/bin/R CMD build --keep-empty-dirs --no-resave-data SubCellBarCode StartedAt: 2025-04-01 08:51:39 -0400 (Tue, 01 Apr 2025) EndedAt: 2025-04-01 08:56:29 -0400 (Tue, 01 Apr 2025) EllapsedTime: 290.5 seconds RetCode: 0 Status: OK PackageFile: SubCellBarCode_1.22.0.tar.gz PackageFileSize: 2.352 MiB