Package: StructuralVariantAnnotation Version: 1.22.0 Command: /home/biocbuild/bbs-3.20-bioc/R/bin/R CMD build --keep-empty-dirs --no-resave-data --md5 StructuralVariantAnnotation StartedAt: 2025-03-31 19:20:49 -0400 (Mon, 31 Mar 2025) EndedAt: 2025-03-31 19:22:02 -0400 (Mon, 31 Mar 2025) EllapsedTime: 73.1 seconds RetCode: 0 Status: OK PackageFile: StructuralVariantAnnotation_1.22.0.tar.gz PackageFileSize: 976.2 KiB