Package: ReactomeGraph4R Version: 1.14.0 Command: /home/biocbuild/R/R/bin/R CMD INSTALL ReactomeGraph4R StartedAt: 2025-03-31 20:43:19 -0000 (Mon, 31 Mar 2025) EndedAt: 2025-03-31 20:43:25 -0000 (Mon, 31 Mar 2025) EllapsedTime: 6.0 seconds RetCode: 0 Status: OK