Package: ReactomeGraph4R Version: 1.14.0 Command: /home/biocbuild/R/R/bin/R CMD check --install=check:ReactomeGraph4R.install-out.txt --library=/home/biocbuild/R/R/site-library --no-vignettes --timings ReactomeGraph4R_1.14.0.tar.gz StartedAt: 2025-04-01 09:50:38 -0000 (Tue, 01 Apr 2025) EndedAt: 2025-04-01 09:51:17 -0000 (Tue, 01 Apr 2025) EllapsedTime: 39.1 seconds RetCode: 0 Status: OK CheckDir: ReactomeGraph4R.Rcheck Warnings: 0