Package: ReactomeGraph4R Version: 1.14.0 Command: /home/biocbuild/R/R/bin/R CMD build --keep-empty-dirs --no-resave-data ReactomeGraph4R StartedAt: 2025-04-01 01:57:15 -0000 (Tue, 01 Apr 2025) EndedAt: 2025-04-01 01:57:32 -0000 (Tue, 01 Apr 2025) EllapsedTime: 17.0 seconds RetCode: 0 Status: OK PackageFile: ReactomeGraph4R_1.14.0.tar.gz PackageFileSize: 1.108 MiB