Package: ReactomeGraph4R Version: 1.14.0 Command: F:\biocbuild\bbs-3.20-bioc\R\bin\R.exe CMD INSTALL ReactomeGraph4R StartedAt: 2025-03-31 15:45:43 -0400 (Mon, 31 Mar 2025) EndedAt: 2025-03-31 15:46:40 -0400 (Mon, 31 Mar 2025) EllapsedTime: 56.9 seconds RetCode: 0 Status: OK