Package: ReactomeGraph4R Version: 1.14.0 Command: chmod a+r ReactomeGraph4R -R && F:\biocbuild\bbs-3.20-bioc\R\bin\R.exe CMD build --keep-empty-dirs --no-resave-data ReactomeGraph4R StartedAt: 2025-03-31 21:22:17 -0400 (Mon, 31 Mar 2025) EndedAt: 2025-03-31 21:25:16 -0400 (Mon, 31 Mar 2025) EllapsedTime: 179.0 seconds RetCode: 0 Status: OK PackageFile: ReactomeGraph4R_1.14.0.tar.gz PackageFileSize: 943 KiB