Package: ReactomeGraph4R Version: 1.14.0 Command: rm -rf ReactomeGraph4R.buildbin-libdir && mkdir ReactomeGraph4R.buildbin-libdir && F:\biocbuild\bbs-3.20-bioc\R\bin\R.exe CMD INSTALL --build --library=ReactomeGraph4R.buildbin-libdir ReactomeGraph4R_1.14.0.tar.gz StartedAt: 2025-04-01 08:59:43 -0400 (Tue, 01 Apr 2025) EndedAt: 2025-04-01 09:00:23 -0400 (Tue, 01 Apr 2025) EllapsedTime: 40.3 seconds RetCode: 0 Status: OK PackageFile: ReactomeGraph4R_1.14.0.zip PackageFileSize: 877.3 KiB