Package: ReactomeGraph4R Version: 1.14.0 Command: /home/biocbuild/bbs-3.20-bioc/R/bin/R CMD INSTALL ReactomeGraph4R StartedAt: 2025-03-31 15:35:24 -0400 (Mon, 31 Mar 2025) EndedAt: 2025-03-31 15:35:29 -0400 (Mon, 31 Mar 2025) EllapsedTime: 4.1 seconds RetCode: 0 Status: OK