Package: ReactomeGraph4R Version: 1.14.0 Command: /home/biocbuild/bbs-3.20-bioc/R/bin/R CMD check --install=check:ReactomeGraph4R.install-out.txt --library=/home/biocbuild/bbs-3.20-bioc/R/site-library --timings ReactomeGraph4R_1.14.0.tar.gz StartedAt: 2025-04-01 01:23:31 -0400 (Tue, 01 Apr 2025) EndedAt: 2025-04-01 01:24:08 -0400 (Tue, 01 Apr 2025) EllapsedTime: 37.1 seconds RetCode: 0 Status: OK CheckDir: ReactomeGraph4R.Rcheck Warnings: 0