Package: ReactomeGraph4R Version: 1.14.0 Command: /Library/Frameworks/R.framework/Resources/bin/R CMD INSTALL ReactomeGraph4R StartedAt: 2025-03-31 15:52:27 -0400 (Mon, 31 Mar 2025) EndedAt: 2025-03-31 15:52:38 -0400 (Mon, 31 Mar 2025) EllapsedTime: 11.7 seconds RetCode: 0 Status: OK