Package: ReactomeGraph4R Version: 1.14.0 Command: /Library/Frameworks/R.framework/Resources/bin/R CMD INSTALL ReactomeGraph4R StartedAt: 2025-03-31 16:36:56 -0400 (Mon, 31 Mar 2025) EndedAt: 2025-03-31 16:37:02 -0400 (Mon, 31 Mar 2025) EllapsedTime: 5.8 seconds RetCode: 0 Status: OK