Package: ReactomeGraph4R Version: 1.14.0 Command: /Library/Frameworks/R.framework/Resources/bin/R CMD check --install=check:ReactomeGraph4R.install-out.txt --library=/Library/Frameworks/R.framework/Resources/library --no-vignettes --timings ReactomeGraph4R_1.14.0.tar.gz StartedAt: 2025-04-02 05:37:12 -0400 (Wed, 02 Apr 2025) EndedAt: 2025-04-02 05:37:55 -0400 (Wed, 02 Apr 2025) EllapsedTime: 44.0 seconds RetCode: 0 Status: OK CheckDir: ReactomeGraph4R.Rcheck Warnings: 0