Package: ReactomeGraph4R Version: 1.14.0 Command: /Library/Frameworks/R.framework/Resources/bin/R CMD build --keep-empty-dirs --no-resave-data ReactomeGraph4R StartedAt: 2025-04-01 05:58:32 -0400 (Tue, 01 Apr 2025) EndedAt: 2025-04-01 05:58:50 -0400 (Tue, 01 Apr 2025) EllapsedTime: 18.2 seconds RetCode: 0 Status: OK PackageFile: ReactomeGraph4R_1.14.0.tar.gz PackageFileSize: 942.2 KiB