Package: NanoStringDiff Version: 1.36.0 Command: /home/biocbuild/bbs-3.20-bioc/R/bin/R CMD INSTALL NanoStringDiff StartedAt: 2025-03-31 15:11:06 -0400 (Mon, 31 Mar 2025) EndedAt: 2025-03-31 15:11:19 -0400 (Mon, 31 Mar 2025) EllapsedTime: 13.3 seconds RetCode: 0 Status: OK