Package: ModCon Version: 1.14.0 Command: /home/biocbuild/bbs-3.20-bioc/R/bin/R CMD INSTALL ModCon StartedAt: 2025-03-31 15:12:01 -0400 (Mon, 31 Mar 2025) EndedAt: 2025-03-31 15:12:08 -0400 (Mon, 31 Mar 2025) EllapsedTime: 7.2 seconds RetCode: 0 Status: OK