Package: BioMVCClass Version: 1.74.0 Command: /home/biocbuild/bbs-3.20-bioc/R/bin/R CMD INSTALL BioMVCClass StartedAt: 2025-03-31 15:12:31 -0400 (Mon, 31 Mar 2025) EndedAt: 2025-03-31 15:12:49 -0400 (Mon, 31 Mar 2025) EllapsedTime: 17.7 seconds RetCode: 0 Status: OK