Package: BioMVCClass Version: 1.74.0 Command: /home/biocbuild/bbs-3.20-bioc/R/bin/R CMD check --install=check:BioMVCClass.install-out.txt --library=/home/biocbuild/bbs-3.20-bioc/R/site-library --timings BioMVCClass_1.74.0.tar.gz StartedAt: 2025-03-31 20:15:46 -0400 (Mon, 31 Mar 2025) EndedAt: 2025-03-31 20:16:17 -0400 (Mon, 31 Mar 2025) EllapsedTime: 31.0 seconds RetCode: 0 Status: OK CheckDir: BioMVCClass.Rcheck Warnings: 0