Package: ProData Version: 1.42.0 Command: /home/biocbuild/bbs-3.19-bioc/R/bin/R CMD check --install=check:ProData.install-out.txt --library=/home/biocbuild/bbs-3.19-bioc/R/site-library --timings ProData_1.42.0.tar.gz StartedAt: 2024-10-17 11:54:19 -0400 (Thu, 17 Oct 2024) EndedAt: 2024-10-17 11:54:36 -0400 (Thu, 17 Oct 2024) EllapsedTime: 16.3 seconds RetCode: 0 Status: OK CheckDir: ProData.Rcheck Warnings: 0