Package: UniProtKeywords Version: 0.99.7 Command: /home/biocbuild/bbs-3.19-bioc/R/bin/R CMD INSTALL UniProtKeywords StartedAt: 2024-10-16 06:30:08 -0400 (Wed, 16 Oct 2024) EndedAt: 2024-10-16 06:30:10 -0400 (Wed, 16 Oct 2024) EllapsedTime: 2.4 seconds RetCode: 0 Status: OK