Package: UniProtKeywords Version: 0.99.7 Command: /home/biocbuild/bbs-3.19-bioc/R/bin/R CMD build --keep-empty-dirs --no-resave-data UniProtKeywords StartedAt: 2024-10-16 06:32:24 -0400 (Wed, 16 Oct 2024) EndedAt: 2024-10-16 06:32:28 -0400 (Wed, 16 Oct 2024) EllapsedTime: 4.1 seconds RetCode: 0 Status: OK PackageFile: UniProtKeywords_0.99.7.tar.gz PackageFileSize: 1.173 MiB