Package: tidyCoverage Version: 1.0.0 Command: E:\biocbuild\bbs-3.19-bioc\R\bin\R.exe CMD INSTALL tidyCoverage StartedAt: 2024-10-16 16:26:18 -0400 (Wed, 16 Oct 2024) EndedAt: 2024-10-16 16:27:03 -0400 (Wed, 16 Oct 2024) EllapsedTime: 44.3 seconds RetCode: 0 Status: OK