Package: Modstrings Version: 1.20.0 Command: /home/biocbuild/bbs-3.19-bioc/R/bin/R CMD build --keep-empty-dirs --no-resave-data Modstrings StartedAt: 2024-10-16 19:34:38 -0400 (Wed, 16 Oct 2024) EndedAt: 2024-10-16 19:35:13 -0400 (Wed, 16 Oct 2024) EllapsedTime: 35.1 seconds RetCode: 0 Status: OK PackageFile: Modstrings_1.20.0.tar.gz PackageFileSize: 823.6 KiB