Package: yeastExpData Version: 0.48.0 Command: /home/biocbuild/bbs-3.18-bioc/R/bin/R CMD INSTALL yeastExpData StartedAt: 2024-04-16 10:01:55 -0400 (Tue, 16 Apr 2024) EndedAt: 2024-04-16 10:01:58 -0400 (Tue, 16 Apr 2024) EllapsedTime: 3.9 seconds RetCode: 0 Status: OK