Package: prostateCancerTaylor Version: 1.30.0 Command: /home/biocbuild/bbs-3.18-bioc/R/bin/R CMD check --install=check:prostateCancerTaylor.install-out.txt --library=/home/biocbuild/bbs-3.18-bioc/R/site-library --timings prostateCancerTaylor_1.30.0.tar.gz StartedAt: 2024-04-16 12:06:58 -0400 (Tue, 16 Apr 2024) EndedAt: 2024-04-16 12:07:16 -0400 (Tue, 16 Apr 2024) EllapsedTime: 18.0 seconds RetCode: 0 Status: WARNINGS CheckDir: prostateCancerTaylor.Rcheck Warnings: 1