Package: pcxnData Version: 2.24.0 Maintainer: Sokratis Kariotis MaintainerEmail: s.kariotis at sheffield.ac.uk git_url: https://git.bioconductor.org/packages/pcxnData git_branch: RELEASE_3_18 git_last_commit: a61d0af git_last_commit_date: 2023-10-24 09:17:09 -0400 (Tue, 24 Oct 2023)