Package: optimalFlowData Version: 1.14.0 Command: /home/biocbuild/bbs-3.18-bioc/R/bin/R CMD INSTALL optimalFlowData StartedAt: 2024-04-16 10:00:51 -0400 (Tue, 16 Apr 2024) EndedAt: 2024-04-16 10:01:58 -0400 (Tue, 16 Apr 2024) EllapsedTime: 66.9 seconds RetCode: 0 Status: OK