Package: optimalFlowData Version: 1.14.0 Command: /home/biocbuild/bbs-3.18-bioc/R/bin/R CMD check --install=check:optimalFlowData.install-out.txt --library=/home/biocbuild/bbs-3.18-bioc/R/site-library --timings optimalFlowData_1.14.0.tar.gz StartedAt: 2024-04-16 12:04:05 -0400 (Tue, 16 Apr 2024) EndedAt: 2024-04-16 12:05:16 -0400 (Tue, 16 Apr 2024) EllapsedTime: 71.3 seconds RetCode: 0 Status: WARNINGS CheckDir: optimalFlowData.Rcheck Warnings: 1