Package: optimalFlowData Version: 1.14.0 Command: /home/biocbuild/bbs-3.18-bioc/R/bin/R CMD build --keep-empty-dirs --no-resave-data optimalFlowData StartedAt: 2024-04-16 10:45:23 -0400 (Tue, 16 Apr 2024) EndedAt: 2024-04-16 10:46:51 -0400 (Tue, 16 Apr 2024) EllapsedTime: 88.1 seconds RetCode: 0 Status: OK PackageFile: optimalFlowData_1.14.0.tar.gz PackageFileSize: 75.85 MiB