Package: flowWorkspaceData Version: 3.14.0 Command: /home/biocbuild/bbs-3.18-bioc/R/bin/R CMD check --install=check:flowWorkspaceData.install-out.txt --library=/home/biocbuild/bbs-3.18-bioc/R/site-library --timings flowWorkspaceData_3.14.0.tar.gz StartedAt: 2024-04-16 11:32:27 -0400 (Tue, 16 Apr 2024) EndedAt: 2024-04-16 11:32:42 -0400 (Tue, 16 Apr 2024) EllapsedTime: 15.4 seconds RetCode: 0 Status: OK CheckDir: flowWorkspaceData.Rcheck Warnings: 0