Package: flowWorkspaceData Version: 3.14.0 Command: /home/biocbuild/bbs-3.18-bioc/R/bin/R CMD build --keep-empty-dirs --no-resave-data flowWorkspaceData StartedAt: 2024-04-16 10:28:54 -0400 (Tue, 16 Apr 2024) EndedAt: 2024-04-16 10:29:09 -0400 (Tue, 16 Apr 2024) EllapsedTime: 15.0 seconds RetCode: 0 Status: OK PackageFile: flowWorkspaceData_3.14.0.tar.gz PackageFileSize: 71.15 MiB