Package: diggitdata Version: 1.34.0 Command: /home/biocbuild/bbs-3.18-bioc/R/bin/R CMD build --keep-empty-dirs --no-resave-data diggitdata StartedAt: 2024-04-16 10:24:17 -0400 (Tue, 16 Apr 2024) EndedAt: 2024-04-16 10:24:34 -0400 (Tue, 16 Apr 2024) EllapsedTime: 16.7 seconds RetCode: 0 Status: OK PackageFile: diggitdata_1.34.0.tar.gz PackageFileSize: 47.28 MiB