Package: ReactomeGSA.data Version: 1.16.1 Maintainer: Johannes Griss MaintainerEmail: johannes.griss at meduniwien.ac.at git_url: https://git.bioconductor.org/packages/ReactomeGSA.data git_branch: RELEASE_3_18 git_last_commit: 56f5b0b git_last_commit_date: 2023-11-08 13:49:40 -0400 (Wed, 08 Nov 2023)