Package: RTCGA.rnaseq Version: 20151101.32.0 Command: /home/biocbuild/bbs-3.18-bioc/R/bin/R CMD INSTALL RTCGA.rnaseq StartedAt: 2024-04-16 10:04:01 -0400 (Tue, 16 Apr 2024) EndedAt: 2024-04-16 10:07:52 -0400 (Tue, 16 Apr 2024) EllapsedTime: 231.5 seconds RetCode: 0 Status: OK